BEGIN:VCALENDAR
VERSION:2.0
PRODID:-//Zinco Jazz Club - ECPv6.15.20//NONSGML v1.0//EN
CALSCALE:GREGORIAN
METHOD:PUBLISH
X-WR-CALNAME:Zinco Jazz Club
X-ORIGINAL-URL:https://zincojazz.com
X-WR-CALDESC:Eventos para Zinco Jazz Club
REFRESH-INTERVAL;VALUE=DURATION:PT1H
X-Robots-Tag:noindex
X-PUBLISHED-TTL:PT1H
BEGIN:VTIMEZONE
TZID:America/Mexico_City
BEGIN:STANDARD
TZOFFSETFROM:-0600
TZOFFSETTO:-0600
TZNAME:CST
DTSTART:20250101T000000
END:STANDARD
END:VTIMEZONE
BEGIN:VEVENT
DTSTART;TZID=America/Mexico_City:20260423T210000
DTEND;TZID=America/Mexico_City:20260423T210000
DTSTAMP:20260423T081537
CREATED:20260406T164807Z
LAST-MODIFIED:20260420T175305Z
UID:4506-1776978000-1776978000@zincojazz.com
SUMMARY:KIND OF BLUES por ISRAEL CUPICH SEXTETO
DESCRIPTION:
URL:https://zincojazz.com/event/kind-of-blues-por-israel-cupich-sexteto/
LOCATION:Zinco Jazz\, Motolinía 20\, Centro Cuauhtémoc C.P. 06050\, CDMX\, México
CATEGORIES:This week events
ATTACH;FMTTYPE=image/png:https://zincojazz.com/wp-content/uploads/2026/03/23zincoabril.png
END:VEVENT
END:VCALENDAR