BEGIN:VCALENDAR
VERSION:2.0
PRODID:-//Zinco Jazz Club - ECPv6.15.20//NONSGML v1.0//EN
CALSCALE:GREGORIAN
METHOD:PUBLISH
X-WR-CALNAME:Zinco Jazz Club
X-ORIGINAL-URL:https://zincojazz.com
X-WR-CALDESC:Eventos para Zinco Jazz Club
REFRESH-INTERVAL;VALUE=DURATION:PT1H
X-Robots-Tag:noindex
X-PUBLISHED-TTL:PT1H
BEGIN:VTIMEZONE
TZID:America/Mexico_City
BEGIN:STANDARD
TZOFFSETFROM:-0600
TZOFFSETTO:-0600
TZNAME:CST
DTSTART:20250101T000000
END:STANDARD
END:VTIMEZONE
BEGIN:VEVENT
DTSTART;TZID=America/Mexico_City:20260423T210000
DTEND;TZID=America/Mexico_City:20260423T210000
DTSTAMP:20260423T040503
CREATED:20260406T164807Z
LAST-MODIFIED:20260420T175305Z
UID:4506-1776978000-1776978000@zincojazz.com
SUMMARY:KIND OF BLUES por ISRAEL CUPICH SEXTETO
DESCRIPTION:
URL:https://zincojazz.com/event/kind-of-blues-por-israel-cupich-sexteto/
LOCATION:Zinco Jazz\, Motolinía 20\, Centro Cuauhtémoc C.P. 06050\, CDMX\, México
CATEGORIES:This week events
ATTACH;FMTTYPE=image/png:https://zincojazz.com/wp-content/uploads/2026/03/23zincoabril.png
END:VEVENT
BEGIN:VEVENT
DTSTART;TZID=America/Mexico_City:20260424T210000
DTEND;TZID=America/Mexico_City:20260424T210000
DTSTAMP:20260423T040503
CREATED:20260406T164905Z
LAST-MODIFIED:20260420T175312Z
UID:4508-1777064400-1777064400@zincojazz.com
SUMMARY:ALEX MERCADO TRIO
DESCRIPTION:
URL:https://zincojazz.com/event/alex-mercado-trio-5/
LOCATION:Zinco Jazz\, Motolinía 20\, Centro Cuauhtémoc C.P. 06050\, CDMX\, México
CATEGORIES:This week events
ATTACH;FMTTYPE=image/png:https://zincojazz.com/wp-content/uploads/2026/03/24zincoabril.png
END:VEVENT
BEGIN:VEVENT
DTSTART;TZID=America/Mexico_City:20260425T210000
DTEND;TZID=America/Mexico_City:20260425T210000
DTSTAMP:20260423T040503
CREATED:20260406T165013Z
LAST-MODIFIED:20260420T175317Z
UID:4510-1777150800-1777150800@zincojazz.com
SUMMARY:ZINCO BIG BAND
DESCRIPTION:
URL:https://zincojazz.com/event/zinco-big-band-36/
LOCATION:Zinco Jazz\, Motolinía 20\, Centro Cuauhtémoc C.P. 06050\, CDMX\, México
CATEGORIES:This week events
ATTACH;FMTTYPE=image/png:https://zincojazz.com/wp-content/uploads/2026/03/25zincoabril.png
END:VEVENT
BEGIN:VEVENT
DTSTART;TZID=America/Mexico_City:20260429T210000
DTEND;TZID=America/Mexico_City:20260429T210000
DTSTAMP:20260423T040503
CREATED:20260406T165115Z
LAST-MODIFIED:20260406T165115Z
UID:4512-1777496400-1777496400@zincojazz.com
SUMMARY:AMY WINEHOUESE por ZAIRA FRANCO
DESCRIPTION:
URL:https://zincojazz.com/event/amy-winehouese-por-zaira-franco/
LOCATION:Zinco Jazz\, Motolinía 20\, Centro Cuauhtémoc C.P. 06050\, CDMX\, México
CATEGORIES:Upcoming
ATTACH;FMTTYPE=image/png:https://zincojazz.com/wp-content/uploads/2026/03/29zincoabril.png
END:VEVENT
BEGIN:VEVENT
DTSTART;TZID=America/Mexico_City:20260430T210000
DTEND;TZID=America/Mexico_City:20260430T210000
DTSTAMP:20260423T040503
CREATED:20260406T165400Z
LAST-MODIFIED:20260406T165400Z
UID:4517-1777582800-1777582800@zincojazz.com
SUMMARY:BRAVO BRUBECKI por PABLO PRIETO CUARTETO
DESCRIPTION:
URL:https://zincojazz.com/event/bravo-brubecki-por-pablo-prieto-cuarteto/
LOCATION:Zinco Jazz\, Motolinía 20\, Centro Cuauhtémoc C.P. 06050\, CDMX\, México
CATEGORIES:Upcoming
ATTACH;FMTTYPE=image/png:https://zincojazz.com/wp-content/uploads/2026/03/30zincoabril.png
END:VEVENT
END:VCALENDAR