BEGIN:VCALENDAR
VERSION:2.0
PRODID:-//Zinco Jazz Club - ECPv6.15.20//NONSGML v1.0//EN
CALSCALE:GREGORIAN
METHOD:PUBLISH
X-ORIGINAL-URL:https://zincojazz.com
X-WR-CALDESC:Eventos para Zinco Jazz Club
REFRESH-INTERVAL;VALUE=DURATION:PT1H
X-Robots-Tag:noindex
X-PUBLISHED-TTL:PT1H
BEGIN:VTIMEZONE
TZID:America/Mexico_City
BEGIN:STANDARD
TZOFFSETFROM:-0600
TZOFFSETTO:-0600
TZNAME:CST
DTSTART:20250101T000000
END:STANDARD
END:VTIMEZONE
BEGIN:VEVENT
DTSTART;TZID=America/Mexico_City:20260501T210000
DTEND;TZID=America/Mexico_City:20260501T210000
DTSTAMP:20260423T084206
CREATED:20260406T165611Z
LAST-MODIFIED:20260413T191156Z
UID:4519-1777669200-1777669200@zincojazz.com
SUMMARY:F-MACK
DESCRIPTION:
URL:https://zincojazz.com/event/los-musicos-de-jose-14/
LOCATION:Zinco Jazz\, Motolinía 20\, Centro Cuauhtémoc C.P. 06050\, CDMX\, México
CATEGORIES:Upcoming
ATTACH;FMTTYPE=image/png:https://zincojazz.com/wp-content/uploads/2026/04/mayo1.png
END:VEVENT
END:VCALENDAR