BEGIN:VCALENDAR
VERSION:2.0
PRODID:-//Zinco Jazz Club - ECPv6.15.20//NONSGML v1.0//EN
CALSCALE:GREGORIAN
METHOD:PUBLISH
X-ORIGINAL-URL:https://zincojazz.com
X-WR-CALDESC:Eventos para Zinco Jazz Club
REFRESH-INTERVAL;VALUE=DURATION:PT1H
X-Robots-Tag:noindex
X-PUBLISHED-TTL:PT1H
BEGIN:VTIMEZONE
TZID:America/Mexico_City
BEGIN:STANDARD
TZOFFSETFROM:-0600
TZOFFSETTO:-0600
TZNAME:CST
DTSTART:20250101T000000
END:STANDARD
END:VTIMEZONE
BEGIN:VEVENT
DTSTART;TZID=America/Mexico_City:20260429T210000
DTEND;TZID=America/Mexico_City:20260429T210000
DTSTAMP:20260423T084258
CREATED:20260406T165115Z
LAST-MODIFIED:20260406T165115Z
UID:4512-1777496400-1777496400@zincojazz.com
SUMMARY:AMY WINEHOUESE por ZAIRA FRANCO
DESCRIPTION:
URL:https://zincojazz.com/event/amy-winehouese-por-zaira-franco/
LOCATION:Zinco Jazz\, Motolinía 20\, Centro Cuauhtémoc C.P. 06050\, CDMX\, México
CATEGORIES:Upcoming
ATTACH;FMTTYPE=image/png:https://zincojazz.com/wp-content/uploads/2026/03/29zincoabril.png
END:VEVENT
END:VCALENDAR